BEGIN:VCALENDAR
VERSION:2.0
PRODID:-//wp-events-plugin.com//7.2.3.1//EN
BEGIN:VEVENT
UID:1-134@250.mercercountynj.gov
DTSTART:20260504T190000Z
DTEND:20260504T203000Z
DTSTAMP:20260211T140438Z
URL:https://250.mercercountynj.gov/events/annual-meeting-and-lewis-b-cuyle
 r-lecture-revolutionary-princeton/
SUMMARY:Annual Meeting and Lewis B. Cuyler Lecture: Revolutionary Princeton
DESCRIPTION:In conjunction with the Semiquincentennial\, historian and auth
 or Larry Kidder chronicles the experiences and contributions of Princeton 
 residents during the Revolution. Their individual and group stories help u
 s understand the challenges faced by ordinary people and reveal the human 
 consequences\, costs\, and benefits of the war.\n\nFree\, registration is 
 requested\, as space is limited.
CATEGORIES:Historical
LOCATION:Historical Society of Princeton\, 354 Quaker Road\, Princeton\, NJ
 \, 08540\, United States
X-APPLE-STRUCTURED-LOCATION;VALUE=URI;X-ADDRESS=354 Quaker Road\, Princeton
 \, NJ\, 08540\, United States;X-APPLE-RADIUS=100;X-TITLE=Historical Societ
 y of Princeton:geo:0,0
END:VEVENT
END:VCALENDAR