BEGIN:VCALENDAR
VERSION:2.0
PRODID:-//wp-events-plugin.com//7.2.3.1//EN
BEGIN:VEVENT
UID:1-4@250.mercercountynj.gov
DTSTART;TZID=America/New_York:20250516T124500
DTEND;TZID=America/New_York:20250516T134500
DTSTAMP:20250514T211525Z
URL:https://250.mercercountynj.gov/events/test-event/
SUMMARY:Test Event
DESCRIPTION:test event
LOCATION:Location A\, 123 Main St\, Hamilton Township\, NJ\, 08620\, United
  States
GEO:40.168536;-74.674339
X-APPLE-STRUCTURED-LOCATION;VALUE=URI;X-ADDRESS=123 Main St\, Hamilton Town
 ship\, NJ\, 08620\, United States;X-APPLE-RADIUS=100;X-TITLE=Location A:ge
 o:40.168536,-74.674339
END:VEVENT
BEGIN:VTIMEZONE
TZID:America/New_York
X-LIC-LOCATION:America/New_York
BEGIN:DAYLIGHT
DTSTART:20250309T030000
TZOFFSETFROM:-0500
TZOFFSETTO:-0400
TZNAME:EDT
END:DAYLIGHT
END:VTIMEZONE
END:VCALENDAR