BEGIN:VCALENDAR
VERSION:2.0
PRODID:-//wp-events-plugin.com//7.2.3.1//EN
BEGIN:VEVENT
UID:1-133@250.mercercountynj.gov
DTSTART:20260429T183000Z
DTEND:20260429T183000Z
DTSTAMP:20260211T140543Z
URL:https://250.mercercountynj.gov/events/the-ingenious-mr-hopkinson-a-lif
 e-in-words-in-musick/
SUMMARY:The Ingenious Mr. Hopkinson: A Life in Words in Musick
DESCRIPTION:Francis Hopkinson\, a member of the Continental Congress and a 
 signer of the Declaration of Independence\, was also an inventor\, designe
 r\, accomplished poet\, and multi-talented musician\, credited as the firs
 t native composer of the United States. This lecture/performance\, led by
  The Practitioners of Musick’s John Burkhalter\, will include a rich 
 and diverse selection of music\, the same repertory owned and enjoyed by H
 opkinson in printed and manuscript copies that survive to this day.\n\nPre
 sented in partnership with Morven Museum &amp\; Garden and the Historical 
 Society of Princeton. 
ATTACH;FMTTYPE=image/jpeg:https://250.mercercountynj.gov/wp-content/upload
 s/2026/02/1774-Tavern-Assembly-scaled.jpeg
CATEGORIES:Historical
LOCATION:Morven Museum &amp\; Garden\, 55 Stockton Street\, Princeton\, NJ\
 , 08540\, United States
X-APPLE-STRUCTURED-LOCATION;VALUE=URI;X-ADDRESS=55 Stockton Street\, Prince
 ton\, NJ\, 08540\, United States;X-APPLE-RADIUS=100;X-TITLE=Morven Museum 
 & Garden:geo:0,0
END:VEVENT
END:VCALENDAR