BEGIN:VCALENDAR
VERSION:2.0
PRODID:-//wp-events-plugin.com//7.2.3.1//EN
BEGIN:VEVENT
UID:1-130@250.mercercountynj.gov
DTSTART:20260213T000000Z
DTEND:20260213T000000Z
DTSTAMP:20260206T164734Z
URL:https://250.mercercountynj.gov/events/trenton-2nite/
SUMMARY:Trenton 2Nite
DESCRIPTION:Trenton 2Nite is held the second Friday night of each month in 
 downtown Trenton. Come downtown for food\, entertainment\, games\, contest
 s\, and more!\n\nThis month\, you can buy a special “Dinner and a Show
 ” ticket for dinner at 1911 Smokehouse BBQ and a ticket to the 7 pm show
  of “Muleheaded” at Passage Theatre.\n\nThe event is organized by Exit
  7A Creative Services &amp\; Studios. Tents are donated by the Trenton Dow
 ntown Association. Trenton 2Nite is funded by Trenton City Hall Urban Ente
 rprise Zone.
END:VEVENT
END:VCALENDAR